BEGIN:VCALENDAR
VERSION:2.0
PRODID:GlueUp
CALSCALE:GREGORIAN
BEGIN:VTIMEZONE
TZID:UTC
BEGIN:STANDARD
DTSTART:19700101T000000
TZOFFSETFROM:+0000
TZOFFSETTO:+0000
TZNAME:UTC
END:STANDARD
END:VTIMEZONE
BEGIN:VEVENT
TZ:+00
ORGANIZER;CN=Xie Ni:MAILTO:sxie@idc.com
UID:35474-1776908054@https://idc.glueup.cn
DTSTAMP:20260423T013414Z
DTSTART:20220826T003000Z
DTEND:20220826T080000Z
SUMMARY:2022 CSO全球网络安全峰会（中国站）
DESCRIPTION:IDC发布活动2022 CSO全球网络安全峰会（中国站）\n\n2022年08月26日（上午 8:30 - 下午 4:00）(GMT+8)\n\n更多信息，访问https://idc.glueup.cn/my/events/35474
LOCATION:上海宝华万豪酒店 - 中国上海市上海市静安区广中西路333号
BEGIN:VALARM
TRIGGER:-PT48H
REPEAT:4
DURATION:PT30M
ACTION:DISPLAY
END:VALARM
END:VEVENT
END:VCALENDAR